BEGIN:VCALENDAR
VERSION:2.0
PRODID:-//Gompm Alm - ECPv6.15.20//NONSGML v1.0//EN
CALSCALE:GREGORIAN
METHOD:PUBLISH
X-ORIGINAL-URL:https://gompmalm.com
X-WR-CALDESC:Veranstaltungen für Gompm Alm
REFRESH-INTERVAL;VALUE=DURATION:PT1H
X-Robots-Tag:noindex
X-PUBLISHED-TTL:PT1H
BEGIN:VTIMEZONE
TZID:Europe/Berlin
BEGIN:DAYLIGHT
TZOFFSETFROM:+0100
TZOFFSETTO:+0200
TZNAME:CEST
DTSTART:20250330T010000
END:DAYLIGHT
BEGIN:STANDARD
TZOFFSETFROM:+0200
TZOFFSETTO:+0100
TZNAME:CET
DTSTART:20251026T010000
END:STANDARD
BEGIN:DAYLIGHT
TZOFFSETFROM:+0100
TZOFFSETTO:+0200
TZNAME:CEST
DTSTART:20260329T010000
END:DAYLIGHT
BEGIN:STANDARD
TZOFFSETFROM:+0200
TZOFFSETTO:+0100
TZNAME:CET
DTSTART:20261025T010000
END:STANDARD
BEGIN:DAYLIGHT
TZOFFSETFROM:+0100
TZOFFSETTO:+0200
TZNAME:CEST
DTSTART:20270328T010000
END:DAYLIGHT
BEGIN:STANDARD
TZOFFSETFROM:+0200
TZOFFSETTO:+0100
TZNAME:CET
DTSTART:20271031T010000
END:STANDARD
END:VTIMEZONE
BEGIN:VEVENT
DTSTART;TZID=Europe/Berlin:20261030T150000
DTEND;TZID=Europe/Berlin:20261030T213000
DTSTAMP:20260421T141922
CREATED:20260201T171658Z
LAST-MODIFIED:20260211T153317Z
UID:10000089-1793372400-1793395800@gompmalm.com
SUMMARY:Norddeutsche Kohltour auf der Gompm Alm
DESCRIPTION:🥬 Kohl-Tour mit Alm-Einkehr\nWandern\, lachen\, trinken & Grünkohl genießen \nWenn die Tage kühler werden und die Lust auf Geselligkeit steigt\, ist es Zeit für unsere traditionelle Kohl-Tour! Zumindest in Norddeutschland\, da\, wo die Tina „von welch kommt“. Ein schöner Brauch\, der je nach Anzahl der verschiedenen Kohltouren den Kalender ganz schön füllen kann. Kohltouren sind in Südtirol (noch) unbekannt – höchste Zeit also\, diese einzuführen! Gemeinsam ziehen wir los – gut gelaunt\, warm eingepackt\, mit Bollerwagen\, kleinen Spielen und den ein oder anderen Trink-Stopps unterwegs und natürlich: Die Wahl zum Kohlkönig 2026! \n🚶‍♀️ Der Ablauf\n– Treffpunkt & Begrüßung\n– gemeinsame Wanderung durch die Natur des Hirzers\n– Bollerwagen mit Getränken & kleinen Stärkungen\n– kleine Pausen\, Spiele & gute Gespräche\n– Ziel: Einkehr auf der Gompm Alm mit anschließendem Grünkohl-Abendessen in drei Gängen \n💚 Der Weg ist das Ziel – und der Hunger wächst ganz von allein 😉 \n🥬 Grünkohlessen auf der Alm\nNach der Tour erwartet euch ein klassisches\, deftiges Grünkohlessen in gemütlicher Alm-Atmosphäre: \n🍽️ Traditionell & herzhaft als Hauptspeise \n– Grünkohl nach Hausrezept\n– Kassler\, Pinkel\, Kochwurst & Mettenden\n– Bratkartoffeln oder Salzkartoffeln\n– Senf & Beilagen \n🍺 Dazu passend \n– Bier\, Korn & klare Klassiker\n– alkoholfreie Getränke\n– warme Getränke zum Aufwärmen \n✨ Highlights der Kohl-Tour \n– Bollerwagen-Service\n– Lustige Trink-Stopps unterwegs\n– Kleine Spiele & Aufgaben für die Gruppe\n– Wahl zum Kohlkönig und zur Kohlkönigin\n– gemütliche Einkehr & Beisammensein auf der Alm\n– Ideal für Familien\, Singles\, Paare\, nette Menschen \n📅 Organisation & Anmeldung\n– Voranmeldung erforderlich\n– festes Schuhwerk & wetterfeste Kleidung empfohlen\n– Kosten: 59\,00 € pro Person. Darin integriert: Kohltour mit Getränken während der Bollerwagen-Tour\, 3-Gänge-Menü. Die Getränke zum 3-Gänge-Menü sind exklusiv und werden nach Verbrauch berechnet. \n📞 Telefonisch oder 📩 per Nachricht\n(Größere Gruppen\, Firmen & Events bitte vorab anfragen) \nT 0039 0473 949 544\nservus@gompmalm.com \n🥬 Kohl-Tour & Grünkohlessen auf der Alm \nTradition\, Bewegung & Geselligkeit – ein Tag\, der verbindet und lange in Erinnerung bleibt. \n\n \n\n\n\n\nAnmeldeformular\n\n\n\n\nPersönliche Daten \n\n\n\n\nAnrede *Bitte wählenFrauHerrDivers\n\n\nFirma\n\n\n\n\nVorname *\n\n\nNachname *\n\n\n\n\nE-Mail-Adresse *\n\n\n\n\nStraße + Nr.\n\n\nLand\n\n\nPLZ + Stadt\n\n\n\n\nMobilnummer\n\n\nFestnetznummer\n\n\n\n\nGeburtsdatumDein Geburtsdatum verwenden wir zur Klärung\, ob Du bereits über 18 Jahre oder noch minderjährig bist. \n\n\n\n\n\n\nNotiz- / Bemerkungsfeld\n\n\n\n\n\n\n\n\n\nVeranstaltung\n\n\n\n\n\nVeranstaltung/en wählenABBA-AbendAgility-Basis-Seminar mit HundFreilicht-Kino auf der Gompm AlmKaraoke-AbendLeinenführigkeit – entspannt an der Seite Deines HundesMutti geht tanzenNonverbale Kommunikation – das unsichtbare Band zwischen Hund und HundehalterNorddeutsche Kohltour auf der Gompm AlmRückruf – Vertrauen & Freiheit für Dich und Deinen HundSamstags-Brunch auf der Gompm AlmSitz\, Platz\, Spaß …Trainingsurlaub mit WanderungWanderung mit HundYoga-Brunch auf der Gompm AlmYoga-Retreat auf der Gompm Alm\n\n\n\n\nFreilicht Kino – Datum *24.07.21.08.11.09.\n\n\n\n\nKaraoke Abend – Datum31.07.28.08.\n\n\n\n\nMutti geht tanzen – Datum17.07.14.08.\n\n\n\n\nNonverbale Kommunikation – Datum *24.06.23.09.\n\n\n\n\nSamstags Brunch auf der Gompm Alm…Datum *23.05.30.05.06.06.13.06.20.06.27.06.04.07.11.07.18.07.25.07.01.08.07.08.15.08.22.08.29.08.05.09.12.09.19.09.26.09.03.10.10.10.17.10.24.10.31.10.\n\n\n\n\nSitz\, Platz\, Spaß…Datum *13.05.20.05.27.05.03.06.10.06.17.06.24.06.01.07.08.07.15.07.22.07.29.07.05.08.12.08.19.08.26.08.02.09.09.09.16.09.23.09.30.09.07.10.14.10.21.10.28.10.\n\n\n\n\nYoga Brunch…Datum *01.08.02.08.15.08.16.08.\n\n\n\n\nGesamtpreis \n€\n\n\n\n\n\nBezahlmöglichkeiten:Die Bankdaten zur Überweisung werden per E-Mail mitgeteilt.per Rechnung\n\n\n\n\nAbweichende Rechnungsdaten *JaNein\n\n\n\nAbweichende Rechnungsdaten \n\n\n\n\nAnrede *Bitte wählenFrauHerrDivers\n\n\nFirma\n\n\n\n\nGeburtsdatumDein Geburtsdatum verwenden wir zur Klärung\, ob Du bereits über 18 Jahre oder noch minderjährig bist. \n\n\n\n\n\n\nVorname *\n\n\nNachname *\n\n\n\n\nStraße + Nr.\n\n\nPLZ-Stadt\n\n\nLand\n\n\n\n\n\n\n\n\nAGB und Privacy * \n \n\nIch habe die allgemeinen Geschäftsbedingungen und die entsprechende Leistungsbeschreibung gelesen und akzeptiere diese hiermit. Es gelten die Datenschutzbestimmungen. \n\n\n\n\n\n \n\n\nAnmelden\n\n\nBitte fülle dieses Feld nicht aus.
URL:https://gompmalm.com/event/norddeutsche-kohltour-auf-der-gompm-alm/
LOCATION:GOMPM ALM\, Obertall 19\, Schenna\, Südtirol\, 39017\, Italy
ATTACH;FMTTYPE=image/jpeg:https://gompmalm.com/wp-content/uploads/2026/02/gompm-alm-gruenkohltour-veranstaltung.jpg
ORGANIZER;CN="ZIEMER & FALKE ITALIA G.M.B.H.":MAILTO:servus@gompmalm.com
END:VEVENT
END:VCALENDAR